BEGIN:VCALENDAR
VERSION:2.0
CALSCALE:GREGORIAN
PRODID:hfw-villach/terminabstimmung
METHOD:PUBLISH
X-PUBLISHED-TTL:PT1H
BEGIN:VEVENT
UID:cmo9tuq8p0004csn9ylsgjjl4-cmo9tuq9h0005csn9doxngbs8@termine
SUMMARY:1 Florianimesse  2 Grillerei
DTSTAMP:20260423T112353Z
DTSTART:20260503T094500
DTEND:20260503T113000
DESCRIPTION:Organisator: HFW Villach
END:VEVENT
END:VCALENDAR
