BEGIN:VCALENDAR
VERSION:2.0
CALSCALE:GREGORIAN
PRODID:hfw-villach/terminabstimmung
METHOD:PUBLISH
X-PUBLISHED-TTL:PT1H
BEGIN:VEVENT
UID:cmo9tuq8p0004csn9ylsgjjl4-cmo9tuq9h0006csn9m7thavy8@termine
SUMMARY:1 Florianimesse  2 Grillerei
DTSTAMP:20260423T112856Z
DTSTART:20260503T133000
DTEND:20260503T160000
DESCRIPTION:Organisator: HFW Villach
END:VEVENT
END:VCALENDAR
