BEGIN:VCALENDAR
VERSION:2.0
CALSCALE:GREGORIAN
PRODID:hfw-villach/terminabstimmung
METHOD:PUBLISH
X-PUBLISHED-TTL:PT1H
BEGIN:VEVENT
UID:cmo9x8at80002sf5qatxmubpm-cmo9x8at90003sf5qjn81adom@termine
SUMMARY:Test123
DTSTAMP:20260423T112403Z
DTSTART;VALUE=DATE:20260423
DESCRIPTION:Organisator: HFW Villach
DURATION:P1DT
END:VEVENT
END:VCALENDAR
